BEGIN:VCALENDAR
METHOD:PUBLISH
VERSION:2.0
CALSCALE:GREGORIAN
PRODID:-//NONSGML WPForms//NONSGML Sugar Calendar Feeds v3.9.0//EN
X-WR-CALNAME:Civic Engagement and Intersectional Feminist Action Panel
X-WR-CALDESC:Native American Community Development Institute
X-WR-TIMEZONE:America/Chicago
BEGIN:VTIMEZONE
TZID:America/Chicago
BEGIN:STANDARD
TZOFFSETFROM:-0500
TZOFFSETTO:-0600
DTSTART:20241103T070000
TZNAME:CST
END:STANDARD
BEGIN:DAYLIGHT
TZOFFSETFROM:-0600
TZOFFSETTO:-0500
DTSTART:20250309T080000
TZNAME:CDT
END:DAYLIGHT
END:VTIMEZONE
BEGIN:VTIMEZONE
TZID:America/Chicago
BEGIN:STANDARD
TZOFFSETFROM:-0500
TZOFFSETTO:-0600
DTSTART:20241103T070000
TZNAME:CST
END:STANDARD
BEGIN:DAYLIGHT
TZOFFSETFROM:-0600
TZOFFSETTO:-0500
DTSTART:20250309T080000
TZNAME:CDT
END:DAYLIGHT
END:VTIMEZONE
BEGIN:VEVENT
SUMMARY:Civic Engagement and Intersectional Feminist Action Panel
DESCRIPTION:Make Voting a Tradition Manager Jolene Jones will be speakin
 g on a panel on Civic Engagement and Intersectional Feminist Action on T
 hursday\, April 3rd from 12:00 - 1:30.\n\nShe will be joined by fellow p
 anelists:\n- Dr. Habon Abdulle (Executive Director\, Ayada Leads)\n- Ari
 anna Genis (Founder\, The Movida Initiative and Visionary Community Fell
 ow\, UMN Institute for Advanced Study/Liberal Arts Engagement Hub)\n- Ti
 mberlyn Mazeikis (Student Organizer\, Students Demand Action and UMN und
 ergraduate student)\n\n&nbsp\;\n\nRegister here: https://umn.zoom.us/web
 inar/register/WN_HPbtYCLFT4-ZBfnzDs_a0Q#/registration
URL;VALUE=URI:https://nacdi.org/events/civic-engagement-and-intersection
 al-feminist-action-panel/
UID:urn:uuid:d266f1dd-5a2e-44f9-b54a-ce14e059fc26
STATUS:CONFIRMED
ORGANIZER:
DTSTAMP:20260422T222635Z
DTSTART;TZID=America/Chicago:20250403T120000
DTEND;TZID=America/Chicago:20250403T133000
END:VEVENT
END:VCALENDAR